Workbook

Sheet BeaconDecoder
A1: Instruction: in cell A2, you can copy/paste directly the data (red text) from AGW OnlineKISS plus (DK3WN) to have the telemetry decoded below. The tab "ExamplesBCN" lists a few beacon examples that you can try out.
A2: 1 > B8 07 D3 FF F2 7F FC 00 4D 40 00 00 96 80 20 00 38 28 2F BD 21 > 0C A8 00 0F FF FF FF FF FF FF FF FF FF FF FF FF FF FF F0
A3: =SUBSTITUTE(SUBSTITUTE(SUBSTITUTE(SUBSTITUTE(SUBSTITUTE(CLEAN(A2)," ",""),"61>",""),"41>",""),"21>",""),"1>","") -> B807D3FFF27FFC004D4000009680200038282FBD0CA8000FFFFFFFFFFFFFFFFFFFFFFFFFFFFFF0
B4: 0 | C4: 1 | D4: 2 | E4: 3 | F4: 4 | G4: 5 | H4: 6 | I4: 7 | J4: 8 | K4: 9 | L4: 10 | M4: 11 | N4: 12 | O4: 13 | P4: 14 | Q4: 15 | R4: 16 | S4: 17 | T4: 18 | U4: 19 | V4: 20 | W4: 21 | X4: 22 | Y4: 23 | Z4: 24 | AA4: 25 | AB4: 26 | AC4: 27 | AD4: 28 | AE4: 29 | AF4: 30 | AG4: 31 | AH4: 32 | AI4: 33 | AJ4: 34 | AK4: 35 | AL4: 36 | AM4: 37 | AN4: 38 | AO4: 39 | AP4: 40 | AQ4: 41 | AR4: 42 | AS4: 43 | AT4: 44 | AU4: 45 | AV4: 46 | AW4: 47 | AX4: 48 | AY4: 49 | AZ4: 50 | BA4: 51 | BB4: 52 | BC4: 53 | BD4: 54 | BE4: 55 | BF4: 56 | BG4: 57 | BH4: 58 | BI4: 59 | BJ4: 60 | BK4: 61 | BL4: 62 | BM4: 63 | BN4: 64 | BO4: 65 | BP4: 66 | BQ4: 67 | BR4: 68 | BS4: 69 | BT4: 70 | BU4: 71 | BV4: 72 | BW4: 73 | BX4: 74 | BY4: 75 | BZ4: 76 | CA4: 77 | CB4: 78 | CC4: 79
B5: 1 | C5: 3 | D5: 5 | E5: 7 | F5: 9 | G5: 11 | H5: 13 | I5: 15 | J5: 17 | K5: 19 | L5: 21 | M5: 23 | N5: 25 | O5: 27 | P5: 29 | Q5: 31 | R5: 33 | S5: 35 | T5: 37 | U5: 39 | V5: 41 | W5: 43 | X5: 45 | Y5: 47 | Z5: 49 | AA5: 51 | AB5: 53 | AC5: 55 | AD5: 57 | AE5: 59 | AF5: 61 | AG5: 63 | AH5: 65 | AI5: 67 | AJ5: 69 | AK5: 71 | AL5: 73 | AM5: 75 | AN5: 77 | AO5: 79 | AP5: 81 | AQ5: 83 | AR5: 85 | AS5: 87 | AT5: 89 | AU5: 91 | AV5: 93 | AW5: 95 | AX5: 97 | AY5: 99 | AZ5: 101 | BA5: 103 | BB5: 105 | BC5: 107 | BD5: 109 | BE5: 111 | BF5: 113 | BG5: 115 | BH5: 117 | BI5: 119 | BJ5: 121 | BK5: 123 | BL5: 125 | BM5: 127 | BN5: 129 | BO5: 131 | BP5: 133 | BQ5: 135 | BR5: 137 | BS5: 139 | BT5: 141 | BU5: 143 | BV5: 145 | BW5: 147 | BX5: 149 | BY5: 151 | BZ5: 153 | CA5: 155 | CB5: 157
A6: Beacon (hex) | B6: =MID($A$3,B5,2) -> B8 | C6: =MID($A$3,C5,2) -> 07 | D6: =MID($A$3,D5,2) -> D3 | E6: =MID($A$3,E5,2) -> FF | F6: =MID($A$3,F5,2) -> F2 | G6: =MID($A$3,G5,2) -> 7F | H6: =MID($A$3,H5,2) -> FC | I6: =MID($A$3,I5,2) -> 00 | ... CB6: =MID($A$3,CB5,2)
A7: Bits | B7: =HEX2BIN(B6,8) -> 10111000 | C7: =HEX2BIN(C6,8) -> 00000111 | D7: =HEX2BIN(D6,8) -> 11010011 | E7: =HEX2BIN(E6,8) -> 11111111 | F7: =HEX2BIN(F6,8) -> 11110010 | G7: =HEX2BIN(G6,8) -> 01111111 | H7: =HEX2BIN(H6,8) -> 11111100 | I7: =HEX2BIN(I6,8) -> 00000000 | ... CB7: =HEX2BIN(CB6,8) -> 00000000
A9: HK | B9: Bits | C9: Binary | E9: Hex | F9: Decimal | G9: Value (FM) | I9: Value (EM)
A10: Battery voltage | B10: 12 | C10: =CONCATENATE($B$7,LEFT($C$7,4)) -> 101110000000 | E10: =CONCATENATE(BIN2HEX(LEFT($C$10,4)),BIN2HEX(RIGHT($C$10,8),2)) -> B80 | F10: =HEX2DEC(E10) -> 2944 | G10: =F10/4096* 3.3 * 3.133 -> 7.4310844 | H10: V
A11: Temperature OBC | B11: 12 | C11: =CONCATENATE(RIGHT($C$7,4),LEFT($D$7,8)) -> 011111010011 | D11: 085509C80649076004FE05DA | E11: =CONCATENATE(BIN2HEX(LEFT($C$11,4)),BIN2HEX(RIGHT($C$11,8),2)) -> 7D3 | F11: =HEX2DEC(E11) -> 2003 | G11: =((F11 - HEX2DEC(MID(D11,1,4))) * ((85 - 30)) / (HEX2DEC(MID(D11,5,4)) - HEX2DEC(MID(D11,1,4)))) + 30 -> 10.727763 | H11: degC | I11: =((F11 - HEX2DEC(MID(L11,1,4))) * ((85 - 30)) / (HEX2DEC(MID(L11,5,4)) - HEX2DEC(MID(L11,1,4)))) + 30 -> 21.708543 | K11: EM: | L11: 080f099d0613074004d405c0
A12: Battery current | B12: 10 | C12: =CONCATENATE($E$7,LEFT($F$7,2)) -> 1111111111 | E12: =CONCATENATE(BIN2HEX(LEFT($C$12,2)),BIN2HEX(RIGHT($C$12,8))) -> 3FF | F12: =HEX2DEC(E12) -> 1023 | G12: =IF(F12=1023,"null",-5.4311 *F12 + 4636.0085) -> null | H12: mA
A13: Reg.Bus 3V3 current | B13: 10 | C13: =CONCATENATE(RIGHT($F$7,6),LEFT($G$7,4)) -> 1100100111 | E13: =CONCATENATE(BIN2HEX(LEFT($C$13,2)),BIN2HEX(RIGHT($C$13,8),2)) -> 327 | F13: =HEX2DEC(E13) -> 807 | G13: =IF(F13=1023,"null",-5.4311 *F13 + 4636.0085) -> 253.1108 | H13: mA | K13: =HEX2DEC(MID(D11,1,4)) -> 2133
A14: Reg.Bus 5V0 current | B14: 10 | C14: =CONCATENATE(RIGHT($G$7,4),LEFT($H$7,6)) -> 1111111111 | E14: =CONCATENATE(BIN2HEX(LEFT($C$14,2)),BIN2HEX(RIGHT($C$14,8))) -> 3FF | F14: =HEX2DEC(E14) -> 1023 | G14: =IF(F14=1023,"null",-5.4311 *F14 + 4636.0085) -> null | H14: mA | K14: =HEX2DEC(MID(D11,5,4)) -> 2504
A15: Temperature UHF | B15: 16 | C15: =CONCATENATE(RIGHT($H$7,2),$I$7,LEFT($J$7,6)) -> 0000000000010011 | E15: =CONCATENATE(BIN2HEX(LEFT($C$15,8)),BIN2HEX(RIGHT($C$15,8))) -> 013 | G15: =HEX2DEC(E15) -> 19 | H15: degC
A16: OBC Mode/Status | B16: 4 | C16: =CONCATENATE(RIGHT($J$7,2),LEFT($K$7,2)) -> 0101 | E16: =BIN2HEX($C$16) -> 5 | F16: =HEX2DEC(E16) -> 5 | G16: =LOOKUP(F16,LookupTables!A2:A10,LookupTables!B2:B10) -> Low Power Mode
A17: Reason for mode change | B17: 3 | C17: =MID($K$7,3,3) -> 000 | E17: =BIN2HEX($C$17) -> 0 | F17: =HEX2DEC(E17) -> 0 | G17: =LOOKUP(F17,LookupTables!D2:D9,LookupTables!E2:E9) -> System reset
A18: OBC uptime | B18: 32 | C18: =CONCATENATE(RIGHT($K$7,3),$L$7,$M$7,$N$7,LEFT($O$7,5)) -> 00000000000000000001001011010000 | E18: =CONCATENATE(BIN2HEX(LEFT($C$18,8),2),BIN2HEX(MID($C$18,9,8),2),BIN2HEX(MID($C$18,17,8),2),BIN2HEX(RIGHT($C$18,8),2)) -> 000012D0 | G18: =HEX2DEC(E18) -> 4816 | H18: Seconds | J18: =ROUNDDOWN(CONVERT(G18,"sec","hr"),0) -> 1 | K18: h | L18: =ROUNDDOWN(CONVERT(G18-3600*J18,"sec","mn"),0) -> 20 | M18: min | N18: =G18-3600*J18-60*L18 -> 16 | O18: s
A19: OBC boot counter | B19: 8 | C19: =RIGHT($O$7,3)&LEFT($P$7,5) -> 00000100 | E19: =BIN2HEX($C$19) -> 4 | G19: =HEX2DEC(E19) -> 4 | H19: boots
A20: OBC packet counter (sent) | B20: 16 | C20: =RIGHT($P$7,3)&$Q$7&LEFT($R$7,5) -> 0000000000000111 | E20: =BIN2HEX(LEFT($C$20,8))&BIN2HEX(RIGHT($C$20,8)) -> 07 | G20: =HEX2DEC(E20) -> 7 | H20: packets sent
A21: OBC TC received (correct frame) | B21: 8 | C21: =RIGHT($R$7,3)&LEFT($S$7,5) -> 00000101 | E21: =BIN2HEX($C$21) -> 5 | G21: =HEX2DEC(E21) -> 5 | H21: TC received
A22: OBC TC valid (correct command, executed) | B22: 8 | C22: =RIGHT($S$7,3)&LEFT($T$7,5) -> 00000101 | E22: =BIN2HEX($C$22) -> 5 | G22: =HEX2DEC(E22) -> 5 | H22: commands executed
A23: Systems on (ADCS, GPS, IRIDIUM, ULG, XPL, ASDS) | B23: 26 | C23: =RIGHT($T$7,3)&$U$7&$V$7&LEFT($W$7,7) -> 11110111101000011001010100 | G23: Platform I2C | H23: Platform interfacing | I23: UHF | J23: GPS | K23: ADCS | L23: IMU | M23: Pressure sensor | N23: UHF communications | O23: GPS communications (active low, inverted) | P23: XPL | Q23: AeroSDS 3.3V | R23: AeroSDS 5V | S23: Iridium 3.3V | T23: Iridium 27V | U23: UlG | V23: EGSE | W23: EGSE 1 communications | X23: EGSE 2 communications | Y23: XPL power good (input) | Z23: AeroSDS 3.3V power good (input) | AA23: AeroSDS 5V power good (input) | AB23: UHF1 (input) | AC23: IMU data ready (input) | AD23: Accelerometer data ready (input) | AE23: Iridium CTS (input) | AF23: Iridium DCD (input)
G24: =BIN2DEC(MID($C$23,G25,1)) -> 1 | H24: =BIN2DEC(MID($C$23,H25,1)) -> 1 | I24: =BIN2DEC(MID($C$23,I25,1)) -> 1 | J24: =BIN2DEC(MID($C$23,J25,1)) -> 1 | K24: =BIN2DEC(MID($C$23,K25,1)) -> 0 | L24: =BIN2DEC(MID($C$23,L25,1)) -> 1 | M24: =BIN2DEC(MID($C$23,M25,1)) -> 1 | N24: =BIN2DEC(MID($C$23,N25,1)) -> 1 | ... AF24: =BIN2DEC(MID($C$23,AF25,1)) -> 0
G25: 1 | H25: 2 | I25: 3 | J25: 4 | K25: 5 | L25: 6 | M25: 7 | N25: 8 | O25: 9 | P25: 10 | Q25: 11 | R25: 12 | S25: 13 | T25: 14 | U25: 15 | V25: 16 | W25: 17 | X25: 18 | Y25: 19 | Z25: 20 | AA25: 21 | AB25: 22 | AC25: 23 | AD25: 24 | AE25: 25 | AF25: 26
A26: Deployable status | B26: =9+4 -> 13 | C26: =RIGHT($W$7,1)&$X$7&LEFT($Y$7,4) -> 0000000000000 | E26: =BIN2HEX(LEFT($C$26,5))&BIN2HEX(RIGHT($C$26,8)) -> 00 | G26: Panel 1 (-X-axis) release | H26: Panel 2 (-Y-axis) release | I26: Panel 3 (+Y-axis) release | J26: Panel 4 (+X-axis) release | K26: Panel 1 (-X-axis) deployed (input) | L26: Panel 2 (-Y-axis) deployed (input) | M26: Panel 3 (+Y-axis) deployed (input) | N26: Panel 4 (+X-axis)deployed (input) | O26: Deployment enable | P26: Antenna 4 (+X) | Q26: Antenna 3 (+Y) | R26: Antenna 2 (-X) | S26: Antenna 1 (-Y)
G27: =LOOKUP(BeaconDecoder!G28,LookupTables!$J$2:$K$3) -> not active | H27: =LOOKUP(BeaconDecoder!H28,LookupTables!$J$2:$K$3) -> not active | I27: =LOOKUP(BeaconDecoder!I28,LookupTables!$J$2:$K$3) -> not active | J27: =LOOKUP(BeaconDecoder!J28,LookupTables!$J$2:$K$3) -> not active | K27: =LOOKUP(K28,LookupTables!$J$6:$K$7) -> Not deployed | L27: =LOOKUP(L28,LookupTables!$J$6:$K$7) -> Not deployed | M27: =LOOKUP(M28,LookupTables!$J$6:$K$7) -> Not deployed | N27: =LOOKUP(N28,LookupTables!$J$6:$K$7) -> Not deployed | O27: =LOOKUP(O28,LookupTables!J10:K11) -> Disable | P27: =LOOKUP(P28,LookupTables!$J$6:$K$7) -> Not deployed | Q27: =LOOKUP(Q28,LookupTables!$J$6:$K$7) -> Not deployed | R27: =LOOKUP(R28,LookupTables!$J$6:$K$7) -> Not deployed | S27: =LOOKUP(S28,LookupTables!$J$6:$K$7) -> Not deployed
G28: =BIN2DEC(MID($C$26,G29,1)) -> 0 | H28: =BIN2DEC(MID($C$26,H29,1)) -> 0 | I28: =BIN2DEC(MID($C$26,I29,1)) -> 0 | J28: =BIN2DEC(MID($C$26,J29,1)) -> 0 | K28: =BIN2DEC(MID($C$26,K29,1)) -> 0 | L28: =BIN2DEC(MID($C$26,L29,1)) -> 0 | M28: =BIN2DEC(MID($C$26,M29,1)) -> 0 | N28: =BIN2DEC(MID($C$26,N29,1)) -> 0 | ... S28: =BIN2DEC(MID($C$26,S29,1)) -> 0
G29: 1 | H29: 2 | I29: 3 | J29: 4 | K29: 5 | L29: 6 | M29: 7 | N29: 8 | O29: 9 | P29: 10 | Q29: 11 | R29: 12 | S29: 13
A30: Solar panel current -Xi | B30: 10 | C30: =RIGHT($Y$7,4)&LEFT($Z$7,6) -> 1111111111 | E30: =BIN2HEX(LEFT(C30,2))&BIN2HEX(RIGHT(C30,8)) -> 3FF | F30: =HEX2DEC(E30) -> 1023 | G30: =IF(F30=1023,"NA",-0.5431*F30+528.5093) -> NA | H30: mA | J30: NOTE: i is inside in deployed config. (opposite to the switches)
A31: Solar panel current -Xo | B31: 10 | C31: =RIGHT($Z$7,2)&$AA$7 -> 1111111111 | E31: =BIN2HEX(LEFT(C31,2))&BIN2HEX(RIGHT(C31,8)) -> 3FF | F31: =HEX2DEC(E31) -> 1023 | G31: =IF(F31=1023,"NA",-0.5431*F31+528.5093) -> NA | H31: mA
A32: Solar panel current -Yi | B32: 10 | C32: =AB7&LEFT(AC7,2) -> 1111111111 | E32: =BIN2HEX(LEFT(C32,2))&BIN2HEX(RIGHT(C32,8)) -> 3FF | F32: =HEX2DEC(E32) -> 1023 | G32: =IF(F32=1023,"NA",-0.5431*F32+528.5093) -> NA | H32: mA
A33: Solar panel current -Yo | B33: 10 | C33: =RIGHT(AC7,6)&LEFT(AD7,4) -> 1111111111 | E33: =BIN2HEX(LEFT(C33,2))&BIN2HEX(RIGHT(C33,8)) -> 3FF | F33: =HEX2DEC(E33) -> 1023 | G33: =IF(F33=1023,"NA",-0.5431*F33+528.5093) -> NA | H33: mA
A34: Solar panel current -Xi | B34: 10 | C34: =RIGHT(AD7,4)&LEFT(AE7,6) -> 1111111111 | E34: =BIN2HEX(LEFT(C34,2))&BIN2HEX(RIGHT(C34,8)) -> 3FF | F34: =HEX2DEC(E34) -> 1023 | G34: =IF(F34=1023,"NA",-0.5431*F34+528.5093) -> NA | H34: mA
A35: Solar panel current -Xo | B35: 10 | C35: =RIGHT(AE7,2)&AF7 -> 1111111111 | E35: =BIN2HEX(LEFT(C35,2))&BIN2HEX(RIGHT(C35,8)) -> 3FF | F35: =HEX2DEC(E35) -> 1023 | G35: =IF(F35=1023,"NA",-0.5431*F35+528.5093) -> NA | H35: mA
A36: Solar panel current +Yi | B36: 10 | C36: =AG7&LEFT(AH7,2) -> 1111111111 | E36: =BIN2HEX(LEFT(C36,2))&BIN2HEX(RIGHT(C36,8)) -> 3FF | F36: =HEX2DEC(E36) -> 1023 | G36: =IF(F36=1023,"NA",-0.5431*F36+528.5093) -> NA | H36: mA
A37: Solar panel current +Yo | B37: 10 | C37: =RIGHT(AH7,6)&LEFT(AI7,4) -> 1111111111 | E37: =BIN2HEX(LEFT(C37,2))&BIN2HEX(RIGHT(C37,8)) -> 3FF | F37: =HEX2DEC(E37) -> 1023 | G37: =IF(F37=1023,"NA",-0.5431*F37+528.5093) -> NA | H37: mA
A38: SolarPanel Voltage -X | B38: 10 | C38: =RIGHT(AI7,4)&LEFT(AJ7,6) -> 1111111111 | E38: =BIN2HEX(LEFT(C38,2))&BIN2HEX(RIGHT(C38,8)) -> 3FF | F38: =HEX2DEC(E38) -> 1023 | G38: =IF(F38=1023,"NA",-0.0148*F38+22.7614) -> NA | H38: V
A39: SolarPanel Voltage -Y | B39: 10 | C39: =RIGHT(AJ7,2)&AK7 -> 1111111111 | E39: =BIN2HEX(LEFT(C39,2))&BIN2HEX(RIGHT(C39,8)) -> 3FF | F39: =HEX2DEC(E39) -> 1023 | G39: =IF(F39=1023,"NA",-0.0148*F39+22.7614) -> NA | H39: V
A40: SolarPanel Voltage +X | B40: 10 | C40: =AL7&LEFT(AM7,2) -> 1111111111 | E40: =BIN2HEX(LEFT(C40,2))&BIN2HEX(RIGHT(C40,8)) -> 3FF | F40: =HEX2DEC(E40) -> 1023 | G40: =IF(F40=1023,"NA",-0.0148*F40+22.7614) -> NA | H40: V
A41: SolarPanel Voltage +Y | B41: 10 | C41: =RIGHT(AM7,6)&LEFT(AN7,4) -> 1111111111 | E41: =BIN2HEX(LEFT(C41,2))&BIN2HEX(RIGHT(C41,8)) -> 3FF | F41: =HEX2DEC(E41) -> 1023 | G41: =IF(F41=1023,"NA",-0.0148*F41+22.7614) -> NA | H41: V
...

Sheet LookupTables
A1: OBC mode | D1: Reason for mode change (Ph3) | J1: PanelDeploy 0-3 | N1: ADCS run mode
A2: 0 | B2: Initialisation | D2: 0 | E2: System reset | J2: 0 | K2: not active | N2: 0 | O2: Disabled
A3: 1 | B3: Deployment | D3: 1 | E3: Command | J3: 1 | K3: Being deployed | N3: 1 | O3: Enabled
A4: 2 | B4: Phase 0 | D4: 2 | E4: Timeout | N4: 2 | O4: Triggered
A5: 3 | B5: Phase 1 | D5: 3 | E5: Under-voltage | J5: PanelDeploy 4-7 & antenna
A6: 4 | B6: Phase 2 | D6: 4 | E6: Accelerometer | J6: 0 | K6: Not deployed | N6: ADCS Estimation Mode
A7: 5 | B7: Low Power Mode | D7: 5 | E7: IMU | J7: 1 | K7: Deployed | N7: 0 | O7: No attitude estimation
A8: 6 | B8: Phase 3 | D8: 6 | E8: GPS | N8: 1 | O8: MEMS rate sensing
A9: 7 | B9: Phase 4 | D9: 7 | E9: Thermocouple | J9: PanelDeploy 8 | N9: 2 | O9: Magnetometer rate filler
A10: 8 | B10: Safe Mode | J10: 0 | K10: Disable | N10: 3 | O10: Magnetometer rate filler with pitch estimation
J11: 1 | K11: Enable | N11: 4 | O11: Full-State EKF
N12: 5 | O12: Magnetometer and fine sun TRIAD algorithm.
N14: ADCS Control Mode
N15: 0 | O15: No control
N16: 2 | O16: Detumbling control
N17: 3 | O17: Y-momentum stabilized - Initial pitch acquisition
N18: 4 | O18: Y-momentum stabilized - Steady state

Sheet ExamplesBCN
A1: 1 > C3 57 E8 FF F4 FF FC 00 60 90 00 00 34 98 08 05 10 48 47 48 21 > 0C 20 00 0F FF FF FF FF FF FF FF FF FF FF FF FF FF FF F0 00 41 > 00 00 00 00 00 00 00 00 00 00 00 00 00 00 00 00 00 00 00 00 61 > 00 00 00 00 00 00 00 00 00 00 00 00 01 E0
A3: 1 > C3 57 E9 FF F4 FF FC 00 60 90 00 00 3C 48 08 05 F8 70 6F 48 21 > 0C 20 00 0F FF FF FF FF FF FF FF FF FF FF FF FF FF FF F0 00 41 > 00 00 00 00 00 00 00 00 00 00 00 00 00 00 00 00 00 00 00 00 61 > 00 00 00 00 00 00 00 00 00 00 00 00 01 E0
A5: C3 21 > F7 F2 FF F5 0F FC 00 60 90 00 00 40 30 08 06 80 80 77 48 0C 41 > 20 00 0F FF FF FF FF FF FF FF FF FF FF FF FF FF FF F0 00 00 61 > 00 00 00 00 00 00 00 00 00 00 00 00 00 00 00 00 00 00 00 00 81 > 00 00 00 00 00 00 00 00 00 00 00 01 E0
A7: 1 > C3 A7 E8 FF F4 EF FC 00 54 90 00 00 50 48 10 01 68 50 57 48 21 > 0C 20 00 0F FF FF FF FF FF FF FF FF FF FF FF FF FF FF F0 00 41 > 00 00 00 00 00 00 00 00 00 00 00 00 00 00 00 00 00 00 00 00 61 > 00 00 00 00 00 00 00 00 00 00 00 0C 01 DC
A9: 1 > CA 87 DD FF F5 0F FC 00 50 88 00 00 20 D0 40 01 48 78 7F 48 21 > 0C 20 00 0F FF FF FF FF FF FF FF FF FF FF FF FF FF FF F0 00 41 > 00 00 00 00 00 00 00 00 00 00 00 00 00 00 00 00 00 00 00 00 61 > 00 00 00 00 00 00 00 00 00 00 00 00 01 B0
A11: 1 > C4 78 40 FF F4 3D 14 00 64 80 00 00 36 D8 18 01 58 40 47 48 21 > 0C 06 00 0F FF FF FF FF FF FF FF FF FF FF FF FF FF FF F1 10 41 > 06 50 01 00 00 E0 69 D0 1A 00 3A 0F 48 A0 6E 3F FE 00 00 00 61 > D6 8D 86 0D E8 20 38 20 14 AF E2 80 01 B0 | B11: WITH ADCS
A13: 1 > C6 08 66 FF F1 EF FC 00 69 40 00 00 26 E8 18 00 A0 58 5F BD 21 > 0C 88 00 0F FF FF FF FF FF FF FF FF FF FF FF FF FF FF F0 | B13: LPM
